BEGIN:VCALENDAR
VERSION:2.0
PRODID:-//Bloomingdale Garden Club - ECPv5.14.0.4//NONSGML v1.0//EN
CALSCALE:GREGORIAN
METHOD:PUBLISH
X-WR-CALNAME:Bloomingdale Garden Club
X-ORIGINAL-URL:https://www.bloomingdalegardenclub.org
X-WR-CALDESC:Events for Bloomingdale Garden Club
BEGIN:VTIMEZONE
TZID:America/Chicago
BEGIN:DAYLIGHT
TZOFFSETFROM:-0600
TZOFFSETTO:-0500
TZNAME:CDT
DTSTART:20230312T080000
END:DAYLIGHT
BEGIN:STANDARD
TZOFFSETFROM:-0500
TZOFFSETTO:-0600
TZNAME:CST
DTSTART:20231105T070000
END:STANDARD
END:VTIMEZONE
BEGIN:VEVENT
DTSTART;TZID=America/Chicago:20231210T120000
DTEND;TZID=America/Chicago:20231210T150000
DTSTAMP:20260422T233121
CREATED:20230927T125410Z
LAST-MODIFIED:20231122T215644Z
UID:3975-1702209600-1702220400@www.bloomingdalegardenclub.org
SUMMARY:2023 Member Christmas Party
DESCRIPTION:Our 2023 Christmas Party For Members and their Families will be \nSUNDAY\, DECEMBER 10\, 2023 at\nJAMESON’S CHARHOUSE\n94 Stratford Drive\, Bloomingdale \nCocktails at Noon\nBuffet at 1 PM includes:\nBruschetta • Mini Crab cakes • Spinach Pies • Teriyaki Chicken Skewers. Cost per person $20 Please Mail Checks to Laurie DringPlease RSVP by December 1st \nPlease bring a wrapped White Elephant Gift \nto participate in the fun!
URL:https://www.bloomingdalegardenclub.org/event/2023-member-christmas-party/
LOCATION:Jameson’s Charhouse\, 94 Stratford Drive\, Bloomingdale\, IL\, United States
CATEGORIES:Monthly Meeting,Special Event
ATTACH;FMTTYPE=image/jpeg:https://www.bloomingdalegardenclub.org/wp-content/uploads/2023/09/2023-Christmas-Party_Web2_RGB.jpg
ORGANIZER;CN="Bloomingdale%20Garden%20Club":MAILTO:bloomingdalegardenclub@gmail.com
END:VEVENT
END:VCALENDAR