BEGIN:VCALENDAR
VERSION:2.0
PRODID:-//Bloomingdale Garden Club - ECPv5.14.0.4//NONSGML v1.0//EN
CALSCALE:GREGORIAN
METHOD:PUBLISH
X-WR-CALNAME:Bloomingdale Garden Club
X-ORIGINAL-URL:https://www.bloomingdalegardenclub.org
X-WR-CALDESC:Events for Bloomingdale Garden Club
BEGIN:VTIMEZONE
TZID:America/Chicago
BEGIN:DAYLIGHT
TZOFFSETFROM:-0600
TZOFFSETTO:-0500
TZNAME:CDT
DTSTART:20210314T080000
END:DAYLIGHT
BEGIN:STANDARD
TZOFFSETFROM:-0500
TZOFFSETTO:-0600
TZNAME:CST
DTSTART:20211107T070000
END:STANDARD
END:VTIMEZONE
BEGIN:VEVENT
DTSTART;TZID=America/Chicago:20211019T183000
DTEND;TZID=America/Chicago:20211019T200000
DTSTAMP:20260423T105715
CREATED:20210825T173521Z
LAST-MODIFIED:20211103T185421Z
UID:3264-1634668200-1634673600@www.bloomingdalegardenclub.org
SUMMARY:Backyard Birds & Bird Feeding
DESCRIPTION:Our speaker\, David Brooks\, is a professional naturalist who teaches about Illinois natural history and green landscaping. He works with and welcomes garden clubs to visit Spring Valley’s Nature Center (111 E. Schaumburg Rd.\, Schaumburg) throughout the year to learn more about prairie wildflowers and ecology\, spring migrant birds\, heirloom kitchen gardening and the history of Schaumburg’s German farming community. In our presentation\, learn the “how to” of attracting a variety of birds to your yard with feeding stations and food plantings. His program will include a who’s-who of common local birds and some of the migrants to be observed in spring and fall. 
URL:https://www.bloomingdalegardenclub.org/event/backyard-birds-bird-feeding/
LOCATION:Cornerstone Faith Community Church\, 118 First Street\, Bloomingdale\, IL\, 60108\, United States
CATEGORIES:Monthly Meeting
ATTACH;FMTTYPE=image/jpeg:https://www.bloomingdalegardenclub.org/wp-content/uploads/2021/08/BackyardBird_RGB.jpg
END:VEVENT
END:VCALENDAR