BEGIN:VCALENDAR
VERSION:2.0
PRODID:-//Bloomingdale Garden Club - ECPv5.14.0.4//NONSGML v1.0//EN
CALSCALE:GREGORIAN
METHOD:PUBLISH
X-WR-CALNAME:Bloomingdale Garden Club
X-ORIGINAL-URL:https://www.bloomingdalegardenclub.org
X-WR-CALDESC:Events for Bloomingdale Garden Club
BEGIN:VTIMEZONE
TZID:America/Chicago
BEGIN:DAYLIGHT
TZOFFSETFROM:-0600
TZOFFSETTO:-0500
TZNAME:CDT
DTSTART:20230312T080000
END:DAYLIGHT
BEGIN:STANDARD
TZOFFSETFROM:-0500
TZOFFSETTO:-0600
TZNAME:CST
DTSTART:20231105T070000
END:STANDARD
END:VTIMEZONE
BEGIN:VEVENT
DTSTART;TZID=America/Chicago:20231204T080000
DTEND;TZID=America/Chicago:20231208T120000
DTSTAMP:20260420T234241
CREATED:20231111T185609Z
LAST-MODIFIED:20231111T185609Z
UID:4000-1701676800-1702036800@www.bloomingdalegardenclub.org
SUMMARY:Christmas Collection for West Suburban
DESCRIPTION:The garden club members are asked again to come through in a big way in its holiday collection for the residents at the West Suburban Nursing and Rehabilitation Center. The generosity of our members is always amazing! Items residents need most are toiletries (soap\, shampoo\, deodorant\, etc.). Of course\, we know residents enjoy both sweet and salty treats. Socks\, throw blankets\, activity books are also welcome. \n\n\n\nDrop off dates are Monday\, December 4th\, through Friday morning\, December 8th\, and again will be at the home of Cathy Gall (address and phone is in membership roster). Cathy will have a large box at the front door for items. It’s helpful if donors text her when they drop off so she’s reminded to bring items indoors. Cathy and her husband will deliver these items to Vina at West Suburban on Friday afternoon. \n\n\n\nPer Vina\, the support of the garden club for the past 4 holiday seasons is so appreciated by the residents. Thanks to all!
URL:https://www.bloomingdalegardenclub.org/event/christmas-collection-for-west-suburban/
LOCATION:Contact Cathy Gall
CATEGORIES:Special Event
ATTACH;FMTTYPE=image/jpeg:https://www.bloomingdalegardenclub.org/wp-content/uploads/2022/12/shvets2.jpg
ORGANIZER;CN="Bloomingdale%20Garden%20Club":MAILTO:bloomingdalegardenclub@gmail.com
END:VEVENT
END:VCALENDAR