BEGIN:VCALENDAR
VERSION:2.0
PRODID:-//Bloomingdale Garden Club - ECPv5.14.0.4//NONSGML v1.0//EN
CALSCALE:GREGORIAN
METHOD:PUBLISH
X-WR-CALNAME:Bloomingdale Garden Club
X-ORIGINAL-URL:https://www.bloomingdalegardenclub.org
X-WR-CALDESC:Events for Bloomingdale Garden Club
BEGIN:VTIMEZONE
TZID:America/Chicago
BEGIN:DAYLIGHT
TZOFFSETFROM:-0600
TZOFFSETTO:-0500
TZNAME:CDT
DTSTART:20230312T080000
END:DAYLIGHT
BEGIN:STANDARD
TZOFFSETFROM:-0500
TZOFFSETTO:-0600
TZNAME:CST
DTSTART:20231105T070000
END:STANDARD
END:VTIMEZONE
BEGIN:VEVENT
DTSTART;TZID=America/Chicago:20231017T181500
DTEND;TZID=America/Chicago:20231017T200000
DTSTAMP:20260423T010122
CREATED:20230530T211609Z
LAST-MODIFIED:20230906T152728Z
UID:3889-1697566500-1697572800@www.bloomingdalegardenclub.org
SUMMARY:Putting your Garden to Bed
DESCRIPTION:Our guest speaker\, Bill Karges\, will discuss “Putting Your Garden to Bed”.  Bill will bring expertise\, insights\, and recommendations on gardens\, lawns\, and plants. He will give us advice and great tips for getting our flower and vegetable gardens ready for the coming months.  \nBill has a Bachelor of Science Degree in Botany from the University of Iowa with a minor in speech. He was Manager\, Chief Botanist and all-around dispenser of relevant horticultural advice at the Pioneer Garden Shop in Villa Park\, for close to 50 years.   \nBill was awarded the Environmental Concerns Commission Green Champion Award for his outstanding example of being a great community resource for residents interested in composting\, water conservation and gardening in an environmentally friendly way. Bill has been a frequent presenter at local garden clubs and organizations.
URL:https://www.bloomingdalegardenclub.org/event/fall-bulbs-and-putting-your-garden-to-bed/
LOCATION:Cornerstone Faith Community Church\, 118 First Street\, Bloomingdale\, IL\, 60108\, United States
CATEGORIES:Monthly Meeting
ATTACH;FMTTYPE=image/jpeg:https://www.bloomingdalegardenclub.org/wp-content/uploads/2023/09/Bill-Kargas.jpg
ORGANIZER;CN="Bloomingdale%20Garden%20Club":MAILTO:bloomingdalegardenclub@gmail.com
END:VEVENT
END:VCALENDAR