BEGIN:VCALENDAR
VERSION:2.0
PRODID:-//Bloomingdale Garden Club - ECPv5.14.0.4//NONSGML v1.0//EN
CALSCALE:GREGORIAN
METHOD:PUBLISH
X-WR-CALNAME:Bloomingdale Garden Club
X-ORIGINAL-URL:https://www.bloomingdalegardenclub.org
X-WR-CALDESC:Events for Bloomingdale Garden Club
BEGIN:VTIMEZONE
TZID:America/Chicago
BEGIN:DAYLIGHT
TZOFFSETFROM:-0600
TZOFFSETTO:-0500
TZNAME:CDT
DTSTART:20230312T080000
END:DAYLIGHT
BEGIN:STANDARD
TZOFFSETFROM:-0500
TZOFFSETTO:-0600
TZNAME:CST
DTSTART:20231105T070000
END:STANDARD
END:VTIMEZONE
BEGIN:VEVENT
DTSTART;TZID=America/Chicago:20230617T100000
DTEND;TZID=America/Chicago:20230617T163000
DTSTAMP:20260423T043156
CREATED:20230430T203603Z
LAST-MODIFIED:20230430T203603Z
UID:3837-1686996000-1687019400@www.bloomingdalegardenclub.org
SUMMARY:MEMBER AND FRIENDS GARDEN WALK & LUNCHEON
DESCRIPTION:Hidden away in a charming cul-de-sac right here in Bloomingdale is the most magical garden you can possibly imagine—and the owner is one of our longtime members!!\n\n \n\nInstead of our normal Tuesday evening June meeting\, we have been invited to explore this awesome little piece of paradise and enjoy lunch with Bob and Fu Mei. \n\n \n\nTIME: 10 AM TO 4:30 PM—See Roster for Address. Lunch will be catered and there is no cost to club members and friends but we will bring drinks to share. Members are asked to RSVP at bloomingdalegardenclub@gmail.com with number expected to attend by June 10th. 
URL:https://www.bloomingdalegardenclub.org/event/member-and-friends-garden-walk-luncheon/
LOCATION:Cornerstone Faith Community Church\, 118 First Street\, Bloomingdale\, IL\, 60108\, United States
CATEGORIES:Monthly Meeting,Special Event
ATTACH;FMTTYPE=image/jpeg:https://www.bloomingdalegardenclub.org/wp-content/uploads/2023/04/BGC-JUNE_RGB.jpg
ORGANIZER;CN="Bloomingdale%20Garden%20Club":MAILTO:bloomingdalegardenclub@gmail.com
END:VEVENT
END:VCALENDAR