BEGIN:VCALENDAR
VERSION:2.0
PRODID:-//Bloomingdale Garden Club - ECPv5.14.0.4//NONSGML v1.0//EN
CALSCALE:GREGORIAN
METHOD:PUBLISH
X-WR-CALNAME:Bloomingdale Garden Club
X-ORIGINAL-URL:https://www.bloomingdalegardenclub.org
X-WR-CALDESC:Events for Bloomingdale Garden Club
BEGIN:VTIMEZONE
TZID:America/Chicago
BEGIN:DAYLIGHT
TZOFFSETFROM:-0600
TZOFFSETTO:-0500
TZNAME:CDT
DTSTART:20220313T080000
END:DAYLIGHT
BEGIN:STANDARD
TZOFFSETFROM:-0500
TZOFFSETTO:-0600
TZNAME:CST
DTSTART:20221106T070000
END:STANDARD
END:VTIMEZONE
BEGIN:VEVENT
DTSTART;TZID=America/Chicago:20220419T183000
DTEND;TZID=America/Chicago:20220419T200000
DTSTAMP:20260423T010713
CREATED:20220222T205135Z
LAST-MODIFIED:20220222T222105Z
UID:3418-1650393000-1650398400@www.bloomingdalegardenclub.org
SUMMARY:Plant Sale Prep Meeting
DESCRIPTION:We’re getting ready—and set to go for our Annual Flower and Plant Sale on May 13th and 14th. Come make new friends at 6:15 pm while we enjoy treats and announcements. At 7 PM a brief overview about the Sale and how you can help will be presented—more detail will be given at the meeting. This very popular event funds our charitable endeavors\, Club programs and activities. \n\n\n\n 
URL:https://www.bloomingdalegardenclub.org/event/plant-sale-prep-meeting/
LOCATION:Cornerstone Faith Community Church\, 118 First Street\, Bloomingdale\, IL\, 60108\, United States
CATEGORIES:Annual Plant Sale,Monthly Meeting
ATTACH;FMTTYPE=image/jpeg:https://www.bloomingdalegardenclub.org/wp-content/uploads/2022/02/Plant-Sale_019_cropped.jpg
ORGANIZER;CN="Bloomingdale%20Garden%20Club":MAILTO:bloomingdalegardenclub@gmail.com
END:VEVENT
END:VCALENDAR