BEGIN:VCALENDAR
VERSION:2.0
PRODID:-//Bloomingdale Garden Club - ECPv5.14.0.4//NONSGML v1.0//EN
CALSCALE:GREGORIAN
METHOD:PUBLISH
X-WR-CALNAME:Bloomingdale Garden Club
X-ORIGINAL-URL:https://www.bloomingdalegardenclub.org
X-WR-CALDESC:Events for Bloomingdale Garden Club
BEGIN:VTIMEZONE
TZID:America/Chicago
BEGIN:DAYLIGHT
TZOFFSETFROM:-0600
TZOFFSETTO:-0500
TZNAME:CDT
DTSTART:20220313T080000
END:DAYLIGHT
BEGIN:STANDARD
TZOFFSETFROM:-0500
TZOFFSETTO:-0600
TZNAME:CST
DTSTART:20221106T070000
END:STANDARD
END:VTIMEZONE
BEGIN:VEVENT
DTSTART;TZID=America/Chicago:20220315T183000
DTEND;TZID=America/Chicago:20220315T200000
DTSTAMP:20260423T025317
CREATED:20211220T201203Z
LAST-MODIFIED:20220329T175647Z
UID:3371-1647369000-1647374400@www.bloomingdalegardenclub.org
SUMMARY:Vegetable Gardening in Raised Beds and Containers
DESCRIPTION:Don’t have usable space in the ground to grow your vegetables? Learn how to use above ground growing systems for safe and fruitful production of your favorite backyard vegetables. Methods to increase production by maximizing your space\, recommended soil and fertilizer practices and construction material options will be reviewed.
URL:https://www.bloomingdalegardenclub.org/event/vegetable-gardening-in-raised-beds-and-containers/
LOCATION:Cornerstone Faith Community Church\, 118 First Street\, Bloomingdale\, IL\, 60108\, United States
CATEGORIES:Monthly Meeting
ATTACH;FMTTYPE=image/jpeg:https://www.bloomingdalegardenclub.org/wp-content/uploads/2021/12/PotMultiples_RGB-e1766956545825.jpg
ORGANIZER;CN="Bloomingdale%20Garden%20Club":MAILTO:bloomingdalegardenclub@gmail.com
END:VEVENT
END:VCALENDAR